BEGIN:VCALENDAR
VERSION:2.0
PRODID:-//ChamberMaster//Event Calendar 2.0//EN
METHOD:PUBLISH
X-PUBLISHED-TTL:P3D
REFRESH-INTERVAL:P3D
CALSCALE:GREGORIAN
BEGIN:VEVENT
DTSTART:20180913T210000Z
DTEND:20180914T010000Z
X-MICROSOFT-CDO-ALLDAYEVENT:FALSE
SUMMARY:Moonlight Market!
DESCRIPTION:The Canal Winchester Local Merchants Guild is holding a Moonlight Market shop hop. Begin your fall/holiday shopping by supporting your local\, independently owned merchants.  A Canal Winchester tradition!
X-ALT-DESC;FMTTYPE=text/html:<span style="font-size: 14px\;">The Canal Winchester Local Merchants Guild is holding a Moonlight Market shop hop. Begin your&nbsp\;fall/holiday shopping by supporting your local\, independently owned merchants.&nbsp\; A Canal Winchester tradition!</span>
LOCATION:The Shops of Historic Downtown Canal Winchester
UID:e.9051.6365
SEQUENCE:3
DTSTAMP:20260422T223139Z
URL:https://business.destinationcw.org/events/details/moonlight-market-6365
END:VEVENT

END:VCALENDAR
