BEGIN:VCALENDAR
VERSION:2.0
PRODID:-//ChamberMaster//Event Calendar 2.0//EN
METHOD:PUBLISH
X-PUBLISHED-TTL:P3D
REFRESH-INTERVAL:P3D
CALSCALE:GREGORIAN
BEGIN:VEVENT
DTSTART:20180528T143000Z
DTEND:20180528T153000Z
X-MICROSOFT-CDO-ALLDAYEVENT:FALSE
SUMMARY:Memorial Day Ceremony
DESCRIPTION:The Canal Winchester Memorial Day Ceremony will feature keynote speaker Dr. Dana street\, a U.S. Navy Veteran of Desert Storm
X-ALT-DESC;FMTTYPE=text/html:The Canal Winchester Memorial Day Ceremony will&nbsp\;feature keynote speaker Dr. Dana street\, a U.S. Navy Veteran of Desert Storm
LOCATION:Ceremony will be held at Union Grove Cemetery located at 400 Winchester Cemetery Rd.
UID:e.9051.5892
SEQUENCE:3
DTSTAMP:20260422T160131Z
URL:https://business.destinationcw.org/events/details/memorial-day-ceremony-5892
END:VEVENT

END:VCALENDAR
