BEGIN:VCALENDAR
VERSION:2.0
PRODID:-//ChamberMaster//Event Calendar 2.0//EN
METHOD:PUBLISH
X-PUBLISHED-TTL:P3D
REFRESH-INTERVAL:P3D
CALSCALE:GREGORIAN
BEGIN:VEVENT
DTSTART:20200917T210000Z
DTEND:20200918T000000Z
X-MICROSOFT-CDO-ALLDAYEVENT:FALSE
SUMMARY:Mask Uerade Fall Shop Hop
DESCRIPTION:Our shops are ready for fall.  Are you?  Join us in Historical downtown Canal Winchester for the downtown merchants fall shop hop.
X-ALT-DESC;FMTTYPE=text/html:Our shops are ready for fall.&nbsp\; Are you?&nbsp\; Join us in Historical downtown Canal Winchester for the downtown merchants fall shop hop.
LOCATION:Thursday\, September 17th from 5 to 8 pm.
UID:e.9051.9594
SEQUENCE:3
DTSTAMP:20260421T225338Z
URL:https://business.destinationcw.org/events/details/mask-uerade-fall-shop-hop-9594
END:VEVENT

END:VCALENDAR
