BEGIN:VCALENDAR
VERSION:2.0
PRODID:-//ChamberMaster//Event Calendar 2.0//EN
METHOD:PUBLISH
X-PUBLISHED-TTL:P3D
REFRESH-INTERVAL:P3D
CALSCALE:GREGORIAN
BEGIN:VEVENT
DTSTART:20170325T220000Z
DTEND:20170326T010000Z
X-MICROSOFT-CDO-ALLDAYEVENT:FALSE
SUMMARY:March Madness Party with Fiddlestix
DESCRIPTION:March Madness Party with Fiddlestix
X-ALT-DESC;FMTTYPE=text/html:March Madness Party with Fiddlestix
LOCATION:Hidden Lakes Winery & Distillery\, 650 Winchester Pike\, Canal Winchester\, Ohio
UID:e.9051.4096
SEQUENCE:3
DTSTAMP:20260421T180254Z
URL:https://business.destinationcw.org/events/details/march-madness-party-with-fiddlestix-4096
END:VEVENT

END:VCALENDAR
