BEGIN:VCALENDAR
VERSION:2.0
PRODID:-//ChamberMaster//Event Calendar 2.0//EN
METHOD:PUBLISH
X-PUBLISHED-TTL:P3D
REFRESH-INTERVAL:P3D
CALSCALE:GREGORIAN
BEGIN:VEVENT
DTSTART:20170520T220000Z
DTEND:20170521T010000Z
X-MICROSOFT-CDO-ALLDAYEVENT:FALSE
SUMMARY:Luau Party with The Fiddlestix
DESCRIPTION:Luau Party with The Fiddlestix
X-ALT-DESC;FMTTYPE=text/html:Luau Party with The Fiddlestix
LOCATION:Hidden Lakes Winery\, 650 Winchester Pike\, Canal Winchester
UID:e.9051.4135
SEQUENCE:3
DTSTAMP:20260421T210142Z
URL:https://business.destinationcw.org/events/details/luau-party-with-the-fiddlestix-4135
END:VEVENT

END:VCALENDAR
