BEGIN:VCALENDAR
VERSION:2.0
PRODID:-//ChamberMaster//Event Calendar 2.0//EN
METHOD:PUBLISH
X-PUBLISHED-TTL:P3D
REFRESH-INTERVAL:P3D
CALSCALE:GREGORIAN
BEGIN:VEVENT
DTSTART:20181222T230000Z
DTEND:20181223T040000Z
X-MICROSOFT-CDO-ALLDAYEVENT:FALSE
SUMMARY:Loose Rail Brewing 2nd Annual Christmas Party
DESCRIPTION:Loose Rail Brewing Company's 2nd Annual Christmas Party
X-ALT-DESC;FMTTYPE=text/html:Loose Rail Brewing Company&#39\;s 2nd Annual Christmas Party
LOCATION:Loose Rail Brewing Company at 37 West Waterloo St\, Canal Winchester\, Ohio
UID:e.9051.6620
SEQUENCE:3
DTSTAMP:20260423T030114Z
URL:https://business.destinationcw.org/events/details/loose-rail-brewing-2nd-annual-christmas-party-6620
END:VEVENT

END:VCALENDAR
