BEGIN:VCALENDAR
VERSION:2.0
PRODID:-//ChamberMaster//Event Calendar 2.0//EN
METHOD:PUBLISH
X-PUBLISHED-TTL:P3D
REFRESH-INTERVAL:P3D
CALSCALE:GREGORIAN
BEGIN:VEVENT
DTSTART:20210514T230000Z
DTEND:20210514T230000Z
X-MICROSOFT-CDO-ALLDAYEVENT:FALSE
SUMMARY:Live entertainment at Loose Rail Brewing
DESCRIPTION:Enjoy the sounds of Haz Benz at Loose Rail Brewing.
X-ALT-DESC;FMTTYPE=text/html:Enjoy the sounds of Haz Benz at Loose Rail Brewing.
LOCATION:Loose Rail Brewing\, 37 W. Waterloo St.\, Canal Winchester\, Ohio 43110
UID:e.9051.10131
SEQUENCE:3
DTSTAMP:20260421T114009Z
URL:https://business.destinationcw.org/events/details/live-entertainment-at-loose-rail-brewing-10131
END:VEVENT

END:VCALENDAR
