BEGIN:VCALENDAR
VERSION:2.0
PRODID:-//ChamberMaster//Event Calendar 2.0//EN
METHOD:PUBLISH
X-PUBLISHED-TTL:P3D
REFRESH-INTERVAL:P3D
CALSCALE:GREGORIAN
BEGIN:VEVENT
DTSTART:20201022T220000Z
DTEND:20201023T000000Z
X-MICROSOFT-CDO-ALLDAYEVENT:FALSE
SUMMARY:Live Entertainment at Heavenly Treats
DESCRIPTION:Enjoy the live music of Danny Lang.\n\n\n\nCome and enjoy this beautiful day with us. Don't know how many of these days we have left. Sit out on the patio and enjoy some live music\, wine or beer\, food and friendly conversation.
X-ALT-DESC;FMTTYPE=text/html:<span style="color: rgb(29\, 33\, 41)\; font-family: Helvetica\, Arial\, sans-serif\; font-size: 14px\; white-space: pre-wrap\; background-color: rgb(255\, 255\, 255)\;">Enjoy the live music of Danny Lang.<br />\n<br />\nCome and enjoy this beautiful day with us. Don&#39\;t know how many of these days we have left. Sit out on the patio and enjoy some live music\, wine or beer\, food and friendly conversation.</span>
LOCATION:Heavenly Treats\, The Original Smith Farm Market Bakery.\, 100 Winchester Cemetery Rd\, Canal Winchester\, Ohio
UID:e.9051.9608
SEQUENCE:3
DTSTAMP:20260421T213530Z
URL:https://business.destinationcw.org/events/details/live-entertainment-at-heavenly-treats-9608
END:VEVENT

END:VCALENDAR
