BEGIN:VCALENDAR
VERSION:2.0
PRODID:-//ChamberMaster//Event Calendar 2.0//EN
METHOD:PUBLISH
X-PUBLISHED-TTL:P3D
REFRESH-INTERVAL:P3D
CALSCALE:GREGORIAN
BEGIN:VEVENT
DTSTART:20200910T223000Z
DTEND:20200911T003000Z
X-MICROSOFT-CDO-ALLDAYEVENT:FALSE
SUMMARY:Live Entertainment at Heavenly Treats
DESCRIPTION:Mark your calendar for live music on Thursdays starting at 6:30.  Come enjoy the food\, music and bring the kids along. They can play some of the new yard games.
X-ALT-DESC;FMTTYPE=text/html:Mark your calendar for live music on Thursdays starting at 6:30.&nbsp\; Come enjoy the food\, music and bring the kids along. They can play some of the new yard games.
LOCATION:Heavenly Treats\, The Original Smith Farm Market Bakery.\, 100 Winchester Cemetery Rd\, Canal Winchester\, Ohio
UID:e.9051.9597
SEQUENCE:3
DTSTAMP:20260422T003959Z
URL:https://business.destinationcw.org/events/details/live-entertainment-at-heavenly-treats-09-10-2020-9597
END:VEVENT

END:VCALENDAR
