BEGIN:VCALENDAR
VERSION:2.0
PRODID:-//ChamberMaster//Event Calendar 2.0//EN
METHOD:PUBLISH
X-PUBLISHED-TTL:P3D
REFRESH-INTERVAL:P3D
CALSCALE:GREGORIAN
BEGIN:VEVENT
DTSTART:20201122T000000Z
DTEND:20201122T030000Z
X-MICROSOFT-CDO-ALLDAYEVENT:FALSE
SUMMARY:Live Entertainment at Blystone Farm\, LLC
DESCRIPTION:Bart Wiseman live at Blystone Farm\, LLC
X-ALT-DESC;FMTTYPE=text/html:Bart Wiseman live at Blystone Farm\, LLC
LOCATION:8677 Oregon Rd\, Canal Winchester\, Ohio
UID:e.9051.9617
SEQUENCE:3
DTSTAMP:20260421T212142Z
URL:https://business.destinationcw.org/events/details/live-entertainment-at-blystone-farm-llc-9617
END:VEVENT

END:VCALENDAR
