BEGIN:VCALENDAR
VERSION:2.0
PRODID:-//ChamberMaster//Event Calendar 2.0//EN
METHOD:PUBLISH
X-PUBLISHED-TTL:P3D
REFRESH-INTERVAL:P3D
CALSCALE:GREGORIAN
BEGIN:VEVENT
DTSTART:20200905T230000Z
DTEND:20200906T020000Z
X-MICROSOFT-CDO-ALLDAYEVENT:FALSE
SUMMARY:Live Entertainment at Blystone Farm\, LLC
DESCRIPTION:Steamtown Road Live at  Blystone Farm\, LLC
X-ALT-DESC;FMTTYPE=text/html:Steamtown Road Live at&nbsp\; Blystone Farm\, LLC
LOCATION:8677 Oregon Rd\, Canal Winchester\, Ohio
UID:e.9051.9590
SEQUENCE:3
DTSTAMP:20260422T003632Z
URL:https://business.destinationcw.org/events/details/live-entertainment-at-blystone-farm-llc-9590
END:VEVENT

END:VCALENDAR
