BEGIN:VCALENDAR
VERSION:2.0
PRODID:-//ChamberMaster//Event Calendar 2.0//EN
METHOD:PUBLISH
X-PUBLISHED-TTL:P3D
REFRESH-INTERVAL:P3D
CALSCALE:GREGORIAN
BEGIN:VEVENT
DTSTART:20210612T230000Z
DTEND:20210613T020000Z
X-MICROSOFT-CDO-ALLDAYEVENT:FALSE
SUMMARY:Live Entertainment at Blystone Farm\, LLC
DESCRIPTION:Blystone Farms will have live entertainment every Friday and Saturday from 7 pm to 10 pm.  Go to their Facebook page each week to see who is performing.
X-ALT-DESC;FMTTYPE=text/html:Blystone Farms will have live entertainment every Friday and Saturday from 7 pm to 10 pm.&nbsp\; Go to their Facebook page each week to see who is performing.
LOCATION:8677 Oregon Rd\, Canal Winchester\, Ohio
UID:e.9051.10564
SEQUENCE:3
DTSTAMP:20260420T180847Z
URL:https://business.destinationcw.org/events/details/live-entertainment-at-blystone-farm-llc-06-12-2021-10564
END:VEVENT

END:VCALENDAR
