BEGIN:VCALENDAR
VERSION:2.0
PRODID:-//ChamberMaster//Event Calendar 2.0//EN
METHOD:PUBLISH
X-PUBLISHED-TTL:P3D
REFRESH-INTERVAL:P3D
CALSCALE:GREGORIAN
BEGIN:VEVENT
DTSTART:20201024T230000Z
DTEND:20201025T020000Z
X-MICROSOFT-CDO-ALLDAYEVENT:FALSE
SUMMARY:Live Entertainment at Blystone Farm
DESCRIPTION:7 Mile Bluegrass will be performing at Blystone Farm\, LLC
X-ALT-DESC;FMTTYPE=text/html:7 Mile Bluegrass will be performing at Blystone Farm\, LLC
LOCATION:8677 Oregon Rd\, Canal Winchester\, Ohio
UID:e.9051.9605
SEQUENCE:3
DTSTAMP:20260421T213422Z
URL:https://business.destinationcw.org/events/details/live-entertainment-at-blystone-farm-9605
END:VEVENT

END:VCALENDAR
