BEGIN:VCALENDAR
VERSION:2.0
PRODID:-//ChamberMaster//Event Calendar 2.0//EN
METHOD:PUBLISH
X-PUBLISHED-TTL:P3D
REFRESH-INTERVAL:P3D
CALSCALE:GREGORIAN
BEGIN:VEVENT
DTSTART:20210611T220000Z
DTEND:20210612T010000Z
X-MICROSOFT-CDO-ALLDAYEVENT:FALSE
SUMMARY:Live entertainment at Barrel & Boar
DESCRIPTION:Enjoy the sounds of Brandi Sparks at Barrel & Boar.  Music on the patio begins 6 pm.
X-ALT-DESC;FMTTYPE=text/html:Enjoy the sounds of Brandi Sparks at Barrel &amp\; Boar.&nbsp\; Music on the patio begins 6 pm.
LOCATION:Barrel & Boar\, 10 S. High Street\, Canal Winchester\, Ohio
UID:e.9051.10792
SEQUENCE:3
DTSTAMP:20260421T113947Z
URL:https://business.destinationcw.org/events/details/live-entertainment-at-barrel-boar-10792
END:VEVENT

END:VCALENDAR
