BEGIN:VCALENDAR
VERSION:2.0
PRODID:-//ChamberMaster//Event Calendar 2.0//EN
METHOD:PUBLISH
X-PUBLISHED-TTL:P3D
REFRESH-INTERVAL:P3D
CALSCALE:GREGORIAN
BEGIN:VEVENT
DTSTART:20210123T220000Z
DTEND:20210124T010000Z
X-MICROSOFT-CDO-ALLDAYEVENT:FALSE
SUMMARY:Live entertainment
DESCRIPTION:Come enjoy the sounds of Greg Dickson.
X-ALT-DESC;FMTTYPE=text/html:Come enjoy the sounds of Greg Dickson.
LOCATION:Roman's Pizza Pub House\, 17 N. High Street\, Canal Winchester
UID:e.9051.9874
SEQUENCE:3
DTSTAMP:20260421T181945Z
URL:https://business.destinationcw.org/events/details/live-entertainment-9874
END:VEVENT

END:VCALENDAR
