BEGIN:VCALENDAR
VERSION:2.0
PRODID:-//ChamberMaster//Event Calendar 2.0//EN
METHOD:PUBLISH
X-PUBLISHED-TTL:P3D
REFRESH-INTERVAL:P3D
CALSCALE:GREGORIAN
BEGIN:VEVENT
DTSTART:20170826T130000Z
DTEND:20170826T170000Z
X-MICROSOFT-CDO-ALLDAYEVENT:FALSE
SUMMARY:Lions Club Paws in the Park
DESCRIPTION:CANAL WINCHESTER LIONS CLUB HAS GONE TO THE DOGS\n\n \n\nWHAT: Canal Winchester Lions Club will host their annual Paws in the Park event which benefits Pilot Dogs\, Inc. The event will feature raffles\, vendors\, and various dog contests. The competitions will be best costume\, obstacle course\, best trick\, barking contest\, and bucket ball. All competition winners will be awarded a trophy. Vendors - we need you. If you're a pet friendly business and would like to set-up a table\, please contact Debbie Horn at country_girl740@yahoo.com.   \n\n \n\nWHO: Everyone is welcome to attend. \n\n\n\n\n\nLIONS BACKGROUND INFORMATION:\n\n \n\nThe Canal Winchester Lions Club meets September through May on the first and third Thursday of the month at 6:30 PM at the Canal Winchester Community Center. Lions clubs are civic-minded groups of men and women who serve together within their community by identifying and fulfilling needs. Please contact our membership chair at Nancw814@aol.com for additional information. \n\n \n\nLions Clubs International is the world's largest service club organization with more than 1.3 million members in approximately 45\,000 clubs in more than 200 countries and geographical areas around the world. Since 1917\, Lions clubs have aided the blind and visually impaired and made a strong commitment to community service and serving youth throughout the world. For more information about Lions Clubs International\, visit the Web site at www.lionsclubs.org.
X-ALT-DESC;FMTTYPE=text/html:<strong><span style="font-family: arial\,sans-serif\;"><span style="color: black\;">CANAL WINCHESTER LIONS CLUB HAS GONE TO THE DOGS</span></span></strong><br />\n&nbsp\;<br />\n<strong><span style="font-family: arial\,sans-serif\;"><span style="color: black\;">WHAT:</span></span></strong><span style="font-family: arial\,sans-serif\;"><span style="color: black\;"> Canal Winchester Lions Club will host their annual Paws in the Park event which benefits Pilot Dogs\, Inc. The event will feature raffles\, vendors\, and various dog contests. The competitions will be best costume\, obstacle course\, best trick\, barking contest\, and bucket ball. All competition winners will be awarded a trophy. Vendors - we need you. If you&#39\;re a pet friendly business and would like to set-up a table\, please contact Debbie Horn at </span></span><a href="mailto:country_girl740@yahoo.com" target="_blank"><span style="font-family: arial\,sans-serif\;"><span style="color: rgb(0\, 102\, 204)\;">country_girl740@yahoo.com</span></span></a><span style="font-family: arial\,sans-serif\;"><span style="color: black\;">.&nbsp\;&nbsp\; </span></span><br />\n&nbsp\;<br />\n<strong><span style="font-family: arial\,sans-serif\;"><span style="color: black\;">WHO:</span></span></strong><span style="font-family: arial\,sans-serif\;"><span style="color: black\;"> Everyone is welcome to attend. </span></span><br />\n<br />\n<br />\n<strong><span style="font-family: arial\,sans-serif\;"><span style="color: black\;">LIONS BACKGROUND INFORMATION:</span></span></strong><br />\n&nbsp\;<br />\n<span style="font-family: arial\,sans-serif\;"><span style="color: black\;">The Canal Winchester Lions Club meets September through May on the first and third Thursday of the month at 6:30 PM at the Canal Winchester Community Center<strong>. </strong></span></span><span style="font-family: arial\,sans-serif\;">Lions clubs are civic-minded groups of men and women who serve together within their community by identifying and fulfilling needs. Please contact our membership chair at <a href="mailto:Nancw814@aol.com" target="_blank"><span style="color: rgb(0\, 102\, 204)\;">Nancw814@aol.com</span></a> for additional information. </span><br />\n&nbsp\;<br />\n<span style="font-family: arial\,sans-serif\;">Lions Clubs International is the world&rsquo\;s largest service club organization with more than 1.3 million members in approximately 45\,000 clubs in more than 200 countries and geographical areas around the world. Since 1917\, Lions clubs have aided the blind and visually impaired and made a strong commitment to community service and serving youth throughout the world. For more information about Lions Clubs International\, visit the Web site at </span><a href="http://www.lionsclubs.org/" target="_blank"><span style="font-family: arial\,sans-serif\;"><span style="color: rgb(0\, 102\, 204)\;">www.lionsclubs.org</span></span></a><span style="font-family: arial\,sans-serif\;">.</span><br />\n&nbsp\;
LOCATION:In the green space behind Stradley Park\, 36 S. High Street\, Canal Winchester\, Ohio
UID:e.9051.4190
SEQUENCE:3
DTSTAMP:20260422T014350Z
URL:https://business.destinationcw.org/events/details/lions-club-paws-in-the-park-4190
END:VEVENT

END:VCALENDAR
