BEGIN:VCALENDAR
VERSION:2.0
PRODID:-//ChamberMaster//Event Calendar 2.0//EN
METHOD:PUBLISH
X-PUBLISHED-TTL:P3D
REFRESH-INTERVAL:P3D
CALSCALE:GREGORIAN
BEGIN:VEVENT
DTSTART:20180901T040000Z
DTEND:20180901T220000Z
X-MICROSOFT-CDO-ALLDAYEVENT:FALSE
SUMMARY:Labor Day Weekend Farmers Market
DESCRIPTION:Come to historic downtown Canal Winchester - West Waterloo area for home grown produce\, hand made jewelry\, baked goods and home decor items Saturday\, September 1st from noon to 6 pm\n\n\n\nFresh berries\, corn on the cob\, greens and melons are just a few of the wonderful mouth watering items from the gardens available each Saturday.  Or if you need to satisfy a sweet tooth\, we have you covered there too with local honey\, fudge\, cup cakes and muffins - including gluten free.\n\n\n\nWant something for your home or your yard? Stop in and see what our wood carvers and crafters have been up to lately\, or create a scented candle that is your own special blend.\n\n\n\nAnd certainly don't miss the one of a kind jewelry or scented oils available for a little self pampering or gifting.
X-ALT-DESC;FMTTYPE=text/html:Come to historic downtown Canal Winchester -&nbsp\;West Waterloo&nbsp\;area&nbsp\;for home grown produce\, hand made jewelry\, baked goods&nbsp\;and home decor items Saturday\, September 1st from noon to 6 pm<br />\n<br />\nFresh berries\, corn on the cob\, greens and melons&nbsp\;are just&nbsp\;a few of the wonderful mouth watering items from the gardens available each Saturday.&nbsp\; Or if you need to satisfy a sweet tooth\, we have you covered there too with local honey\, fudge\, cup cakes and muffins - including gluten free.<br />\n<br />\nWant something for your home or your yard? Stop in and see what our wood carvers and crafters have been up to lately\, or create a scented candle that is your own special blend.<br />\n<br />\nAnd certainly don&#39\;t miss the one of a kind jewelry or scented oils available for a little self pampering or gifting.
LOCATION:West Waterloo St\, Canal Winchester\, Ohio
UID:e.9051.6129
SEQUENCE:3
DTSTAMP:20260422T223500Z
URL:https://business.destinationcw.org/events/details/labor-day-weekend-farmers-market-6129
END:VEVENT

END:VCALENDAR
