BEGIN:VCALENDAR
VERSION:2.0
PRODID:-//ChamberMaster//Event Calendar 2.0//EN
METHOD:PUBLISH
X-PUBLISHED-TTL:P3D
REFRESH-INTERVAL:P3D
CALSCALE:GREGORIAN
BEGIN:VEVENT
DTSTART:20170517T220000Z
DTEND:20170518T000000Z
X-MICROSOFT-CDO-ALLDAYEVENT:FALSE
SUMMARY:Kris Sims Memorial Relay for Life Dinner
DESCRIPTION:All proceeds to benefit Relay for Life\n\n Get acquainted with Canal Winchester's elected officials once again as they wait tables to earn tips for Relay for Life. On Wednesday May 17\, Canal Winchester Mayor Michael Ebert and City Council members will serve dinner at the Canal Winchester Frances Steube Community Center\, located at 22 S. Trine St.  The three-course meal will include a house salad and bread\, spaghetti and meatballs\, iced tea\, lemonade\, coffee and a dessert.  The cost is $10 per adult and $5 per child (10 and under).  Tickets can be purchased at the door the nigth of the event (first come\, first served)\n\nThe dinner is named in honor of the late Kristen Sims\, who worked to bring Relay for Life to Canal Winchester.  All tips and dinner proceeds will benefit Relay for Life\, American Cancer Society.  Donations are tax deductible and receipts will be available upon request.
X-ALT-DESC;FMTTYPE=text/html:<span style="font-size: medium\;"><span style="font-family: calibri\;"><em>All proceeds to benefit Relay for Life</em></span></span><br />\n<span style="font-family: times new roman\,serif\;"><span style="font-size: medium\;">&nbsp\;Get acquainted with Canal Winchester&rsquo\;s elected officials once again as they wait tables to earn tips for Relay for Life. On Wednesday May 17\, Canal Winchester Mayor Michael Ebert and City Council members will serve dinner at the Canal Winchester Frances Steube Community Center\, located at 22 S. Trine St.&nbsp\; The three-course meal will include a house salad and bread\, spaghetti and meatballs\, iced tea\, lemonade\, coffee and a dessert.&nbsp\; The cost is $10 per adult and $5 per child (10 and under).&nbsp\; Tickets can be purchased&nbsp\;at the door the nigth of the event (first come\, first served)<br />\nThe dinner is named in honor of the late Kristen Sims\, who worked to bring Relay for Life to Canal Winchester.&nbsp\; All tips and dinner proceeds will benefit Relay for Life\, American Cancer Society.&nbsp\; Donations are tax deductible and receipts will be available upon request.</span></span><br />\n<br />\n<br />\n<br />\n&nbsp\;
LOCATION:The Canal Winchester Frances Steube Community Center\, 22 S. Trine St.
UID:e.9051.4110
SEQUENCE:3
DTSTAMP:20260421T210213Z
URL:https://business.destinationcw.org/events/details/kris-sims-memorial-relay-for-life-dinner-4110
END:VEVENT

END:VCALENDAR
