BEGIN:VCALENDAR
VERSION:2.0
PRODID:-//ChamberMaster//Event Calendar 2.0//EN
METHOD:PUBLISH
X-PUBLISHED-TTL:P3D
REFRESH-INTERVAL:P3D
CALSCALE:GREGORIAN
BEGIN:VEVENT
DTSTART:20120322T123000Z
DTEND:20120323T020000Z
X-MICROSOFT-CDO-ALLDAYEVENT:FALSE
SUMMARY:Keys 2 Health & Fitness
DESCRIPTION:As the corporate sponsor of the Capital City Half Marathon on May 5th\, KeyBank Canal Winchester wants to help you gear up to get healthy.  Our speaker will be the fabulously fit\, Nate Williams\, owner of Max Muscle in Pickerington.  Please join KeyBank and Nate for a fun networking event\, continental breakfast\, and interactive discussion on how to get healthy both personally and financially.  Please R.S.V.P by Monday\, March 19th to Erica Wymer by phone: (614) 833-5300 or email: erica_l_wymer@keybank.com \n\n \n\nThere will be plenty of time for networking\, so please bring your business cards and other marketing materials to share your business. \n\nIf you know other business owners that would be interested in joining us\, please feel free to bring them along!
X-ALT-DESC;FMTTYPE=text/html:<span style="font-size:15.0pt\;">As the corporate sponsor of the <span style="color:blue\;">Capital City Half Marathon</span></span> on May 5th\, <strong><span style="color:red\;">KeyBank Canal Winchester</span></strong> wants to help you gear up to get healthy. &nbsp\;Our speaker will be the fabulously fit\, <span style="color:red\;">Nate Williams</span>\, owner of <strong><span style="color:red\;">Max Muscle</span></strong> in Pickerington.&nbsp\; Please join <span style="color:red\;">KeyBank</span> and Nate for a fun networking event\, continental breakfast\, and interactive discussion on how to get healthy both personally and financially.&nbsp\; <span style="font-size:15.0pt\;">Please <strong>R.S.V.P</strong> by <strong>Monday\, March 19th</strong> to Erica Wymer by phone: (614) 833-5300 or email: <a href="mailto:erica_l_wymer@keybank.com">erica_l_wymer@keybank.com</a> </span><br />\n&nbsp\;<br />\n<span style="font-size:15.0pt\;">There will be plenty of time for networking\, so please bring your business cards and other marketing materials to share your business. </span><br />\n<span style="font-size:15.0pt\;">If you know other business owners that would be interested in joining us\, please feel free to bring them along!</span>
LOCATION:Shade on the Canal Pine Room 19 South High St Canal Winchester\, Ohio 43110
UID:e.9051.41
SEQUENCE:3
DTSTAMP:20260422T000322Z
URL:https://business.destinationcw.org/events/details/keys-2-health-fitness-03-22-2012-41
END:VEVENT

END:VCALENDAR
