BEGIN:VCALENDAR
VERSION:2.0
PRODID:-//ChamberMaster//Event Calendar 2.0//EN
METHOD:PUBLISH
X-PUBLISHED-TTL:P3D
REFRESH-INTERVAL:P3D
CALSCALE:GREGORIAN
BEGIN:VEVENT
DTSTART;VALUE=DATE:20180119
DTEND;VALUE=DATE:20180120
TRANSP:TRANSPARENT
X-MICROSOFT-CDO-ALLDAYEVENT:TRUE
SUMMARY:Immunization Clinic
DESCRIPTION:Immunization Clinic- Franklin County Public Health\n\n\n3rd Friday of every month\, 9:40 a.m. -2:00 p.m.\n\nAppointments required. Visit www.myfcph.org/imm.php or call 614-525-3719 to schedule an appointment and view fee information.
X-ALT-DESC;FMTTYPE=text/html:<h3 class="subhead2" style="line-height: 17.92px\;">Immunization Clinic- Franklin County Public Health</h3>\n<br style="line-height: 17.92px\; font-size: 12.8px\;" />\n<span style="line-height: 17.92px\; font-size: 12.8px\;">3rd Friday of every month\, 9:40 a.m. -2:00 p.m.<br />\nAppointments required. Visit <a class="Hyperlink" href="http://oh-canalwinchester.civicplus.com/328/www.myfcph.org/imm.php" target="_blank"><font color="#0066cc">www.myfcph.org/imm.php</font></a> or call 614-525-3719 to schedule an appointment and view fee information.&nbsp\;&nbsp\;</span>
LOCATION:Frances Steube Community Center\, 22 S. Trine St. \, Canal Winchester\, Ohio
UID:e.9051.4654
SEQUENCE:3
DTSTAMP:20260422T094348Z
URL:https://business.destinationcw.org/events/details/immunization-clinic-4654
END:VEVENT

END:VCALENDAR
