BEGIN:VCALENDAR
VERSION:2.0
PRODID:-//ChamberMaster//Event Calendar 2.0//EN
METHOD:PUBLISH
X-PUBLISHED-TTL:P3D
REFRESH-INTERVAL:P3D
CALSCALE:GREGORIAN
BEGIN:VEVENT
DTSTART:20201127T190000Z
DTEND:20201127T230000Z
X-MICROSOFT-CDO-ALLDAYEVENT:FALSE
SUMMARY:Holidaze 2020 Wine and Shopping
DESCRIPTION:Shop for everyone on your list while sampling wines\, appetizers and staying warm and toasty in the beautiful barn. Pop over to the butcher shop to purchase wine or meat to go as well! Vendor fees paid for this event will go to support our nonprofit agricultural education program for children at the farm.\n\nHosted by Chalk-It-Up Unique Clothing and Acessories
X-ALT-DESC;FMTTYPE=text/html:<span style="color: rgb(29\, 33\, 41)\; font-family: Helvetica\, Arial\, sans-serif\; font-size: 14px\; white-space: pre-wrap\; background-color: rgb(255\, 255\, 255)\;">Shop for everyone on your list while sampling wines\, appetizers and staying warm and toasty in the beautiful barn. Pop over to the butcher shop to purchase wine or meat to go as well! Vendor fees paid for this event will go to support our nonprofit agricultural education program for children at the farm.<br />\nHosted by Chalk-It-Up Unique Clothing and Acessories</span>
LOCATION:Blystone Farms\, LLC\, 8677 Oregon Rd\, Canal Winchester\, Ohio
UID:e.9051.9619
SEQUENCE:3
DTSTAMP:20260421T195355Z
URL:https://business.destinationcw.org/events/details/holidaze-2020-wine-and-shopping-9619
END:VEVENT

END:VCALENDAR
