BEGIN:VCALENDAR
VERSION:2.0
PRODID:-//ChamberMaster//Event Calendar 2.0//EN
METHOD:PUBLISH
X-PUBLISHED-TTL:P3D
REFRESH-INTERVAL:P3D
CALSCALE:GREGORIAN
BEGIN:VEVENT
DTSTART:20161103T210000Z
DTEND:20161104T010000Z
X-MICROSOFT-CDO-ALLDAYEVENT:FALSE
SUMMARY:Holiday Shop Hop
DESCRIPTION:Start off the holiday season by visiting the shops and restaurants in Historic Canal Winchester on Thursday\, November 3rd from 5 pm to 9 pm.
X-ALT-DESC;FMTTYPE=text/html:Start off the holiday season by visiting the shops and restaurants in Historic Canal Winchester on Thursday\,&nbsp\;November 3rd from 5 pm to 9 pm.
LOCATION:Historic downtown Canal Winchester
UID:e.9051.4018
SEQUENCE:3
DTSTAMP:20260421T114009Z
URL:https://business.destinationcw.org/events/details/holiday-shop-hop-4018
END:VEVENT

END:VCALENDAR
