BEGIN:VCALENDAR
VERSION:2.0
PRODID:-//ChamberMaster//Event Calendar 2.0//EN
METHOD:PUBLISH
X-PUBLISHED-TTL:P3D
REFRESH-INTERVAL:P3D
CALSCALE:GREGORIAN
BEGIN:VEVENT
DTSTART:20181020T223000Z
DTEND:20181021T010000Z
X-MICROSOFT-CDO-ALLDAYEVENT:FALSE
SUMMARY:Historic "Ghost" Tour (Night 2)
DESCRIPTION:For one weekend\, they come alive again!  ...Enjoy this educational historical tour of places and people long gone from Canal Winchester's rich history!
X-ALT-DESC;FMTTYPE=text/html:For one weekend\, they come alive again!&nbsp\; ...Enjoy this educational historical tour of places and people long gone from Canal Winchester&#39\;s rich history!
LOCATION:See web site
UID:e.9051.6382
SEQUENCE:3
DTSTAMP:20260422T235815Z
URL:https://business.destinationcw.org/events/details/historic-ghost-tour-night-2-6382
END:VEVENT

END:VCALENDAR
