BEGIN:VCALENDAR
VERSION:2.0
PRODID:-//ChamberMaster//Event Calendar 2.0//EN
METHOD:PUBLISH
X-PUBLISHED-TTL:P3D
REFRESH-INTERVAL:P3D
CALSCALE:GREGORIAN
BEGIN:VEVENT
DTSTART:20171014T230000Z
DTEND:20171015T010000Z
X-MICROSOFT-CDO-ALLDAYEVENT:FALSE
SUMMARY:Historic "Ghost" Tour (Night 1)
DESCRIPTION:The Canal Winchester Area Historical Society will "bring history to life" in downtown Canal Winchester on October 13th and 14th (2017) as they present the eleventh annual Historic Ghost Tour\, exploring six historic locations throughout downtown Canal Winchester.\n\nEvent-goers will be guided through a short walking tour as they are entertained by actors depicting people from Canal Winchester's past. Tours will last approximately 90 minutes and will begin at 7:00 p.m. each night\, with the last tour departing at 7:30 p.m.
X-ALT-DESC;FMTTYPE=text/html:<p style="margin: 0px 0px 1em\; padding: 0px\; outline: 0px\; font-size: 12.8px\; vertical-align: baseline\; background-color: rgb(246\, 244\, 238)\;">The Canal Winchester Area Historical Society will &ldquo\;bring history to life&rdquo\; in downtown Canal Winchester on <strong>October 13th and 14th (2017)</strong> as they present the eleventh annual Historic Ghost Tour\, exploring six historic locations throughout downtown Canal Winchester.</p>\n\n<p style="margin: 0px 0px 1em\; padding: 0px\; outline: 0px\; font-size: 12.8px\; vertical-align: baseline\; background-color: rgb(246\, 244\, 238)\;">Event-goers will be guided through a short walking tour as they are entertained by actors depicting people from Canal Winchester&rsquo\;s past.&nbsp\;<span>Tours will last approximately 90 minutes and will begin at 7:00 p.m. each night\, with the last tour departing at 7:30 p.m.&nbsp\;</span></p>\n
LOCATION:See cwhistory.org
UID:e.9051.4226
SEQUENCE:3
DTSTAMP:20260422T045248Z
URL:https://business.destinationcw.org/events/details/historic-ghost-tour-night-1-4226
END:VEVENT

END:VCALENDAR
