BEGIN:VCALENDAR
VERSION:2.0
PRODID:-//ChamberMaster//Event Calendar 2.0//EN
METHOD:PUBLISH
X-PUBLISHED-TTL:P3D
REFRESH-INTERVAL:P3D
CALSCALE:GREGORIAN
BEGIN:VEVENT
DTSTART:20170319T180000Z
DTEND:20170319T210000Z
X-MICROSOFT-CDO-ALLDAYEVENT:FALSE
SUMMARY:Hidden Lakes Winery & Distillery
DESCRIPTION:Dave Heinmiller performing
X-ALT-DESC;FMTTYPE=text/html:Dave Heinmiller performing
LOCATION:Hidden Lakes Winery & Distillery
UID:e.9051.4095
SEQUENCE:3
DTSTAMP:20260421T193207Z
URL:https://business.destinationcw.org/events/details/hidden-lakes-winery-distillery-4095
END:VEVENT

END:VCALENDAR
