BEGIN:VCALENDAR
VERSION:2.0
PRODID:-//ChamberMaster//Event Calendar 2.0//EN
METHOD:PUBLISH
X-PUBLISHED-TTL:P3D
REFRESH-INTERVAL:P3D
CALSCALE:GREGORIAN
BEGIN:VEVENT
DTSTART:20170325T170000Z
DTEND:20170325T200000Z
X-MICROSOFT-CDO-ALLDAYEVENT:FALSE
SUMMARY:Hidden Lakes Winery Bridal Expo
DESCRIPTION:Take this opportunity to meet with wedding officiants\, planners\, florists\, photographers\, dress designers and make-up artists all at one event.
X-ALT-DESC;FMTTYPE=text/html:Take this opportunity to meet with wedding officiants\, planners\, florists\, photographers\, dress designers and make-up artists all at one event.
LOCATION:Hidden Lakes Winery\, 650 Winchester Pike\, Canal Winchester
UID:e.9051.4091
SEQUENCE:3
DTSTAMP:20260421T180246Z
URL:https://business.destinationcw.org/events/details/hidden-lakes-winery-bridal-expo-4091
END:VEVENT

END:VCALENDAR
