BEGIN:VCALENDAR
VERSION:2.0
PRODID:-//ChamberMaster//Event Calendar 2.0//EN
METHOD:PUBLISH
X-PUBLISHED-TTL:P3D
REFRESH-INTERVAL:P3D
CALSCALE:GREGORIAN
BEGIN:VEVENT
DTSTART:20161103T210000Z
DTEND:20161104T010000Z
X-MICROSOFT-CDO-ALLDAYEVENT:FALSE
SUMMARY:Have Yourself a Local Little Christmas
DESCRIPTION:Join us for this very special shopping event in downtown Canal Winchester! We will have Red Wine Hot Chocolate by the glass just for this event to introduce our new holiday dessert wines. Also taste our new Spiced Merlot!
X-ALT-DESC;FMTTYPE=text/html:Join us for this very special shopping event in downtown Canal Winchester! We will have Red Wine Hot Chocolate by the glass just for this event to introduce our new holiday dessert wines. Also taste our new Spiced Merlot!
LOCATION:Wagon Wheel Wines\, 58 E. Waterloo\, Canal Winchester\, Ohio
UID:e.9051.4023
SEQUENCE:3
DTSTAMP:20260421T114019Z
URL:https://business.destinationcw.org/events/details/have-yourself-a-local-little-christmas-4023
END:VEVENT

END:VCALENDAR
