BEGIN:VCALENDAR
VERSION:2.0
PRODID:-//ChamberMaster//Event Calendar 2.0//EN
METHOD:PUBLISH
X-PUBLISHED-TTL:P3D
REFRESH-INTERVAL:P3D
CALSCALE:GREGORIAN
BEGIN:VEVENT
DTSTART:20170316T150000Z
DTEND:20170316T160000Z
X-MICROSOFT-CDO-ALLDAYEVENT:FALSE
SUMMARY:Hatha Yoga
DESCRIPTION:Canal Winchester Community Center Presents Healthy Community Series: Hatha Yoga\n\nHatha Yoga improves and maintains strength\, flexibility\, range of motion\, and promotes relaxation. It is non-competitive and participants are encouraged to work at their own level. Wear comfortable clothing and bring a yoga mat if you have one. "Chair Yoga" modifications will be demonstrated for those who prefer.\n\n\n\nOpen to adults of any gender\, size\, shape\, and level of ability. Classes taught by Kathy Esson\, certified instructor.
X-ALT-DESC;FMTTYPE=text/html:Canal Winchester Community Center Presents Healthy Community Series: Hatha Yoga<br />\nHatha Yoga improves and maintains strength\, flexibility\, range of motion\, and promotes relaxation. It is non-competitive and participants are encouraged to work at their own level. Wear comfortable clothing and bring a yoga mat if you have one. &quot\;Chair Yoga&quot\; modifications will be demonstrated for those who prefer.<br />\n<br />\nOpen to adults of any gender\, size\, shape\, and level of ability. Classes taught by Kathy Esson\, certified instructor.
LOCATION:Frances Steube Community Center\, 22 S. Trine St\, Canal Winchester
UID:e.9051.4074
SEQUENCE:3
DTSTAMP:20260421T180052Z
URL:https://business.destinationcw.org/events/details/hatha-yoga-4074
END:VEVENT

END:VCALENDAR
