BEGIN:VCALENDAR
VERSION:2.0
PRODID:-//ChamberMaster//Event Calendar 2.0//EN
METHOD:PUBLISH
X-PUBLISHED-TTL:P3D
REFRESH-INTERVAL:P3D
CALSCALE:GREGORIAN
BEGIN:VEVENT
DTSTART:20190207T233000Z
DTEND:20190208T020000Z
X-MICROSOFT-CDO-ALLDAYEVENT:FALSE
SUMMARY:Harvest Moon Craft Kitchen Entertainment
DESCRIPTION:Music by Alex Schrosk while enjoying wonderful food and drinks.
X-ALT-DESC;FMTTYPE=text/html:Music by&nbsp\;Alex Schrosk&nbsp\;while enjoying wonderful food and drinks.
LOCATION:7 N. High Street in historic downtown Canal Winchester\, Ohio
UID:e.9051.6628
SEQUENCE:3
DTSTAMP:20260423T054754Z
URL:https://business.destinationcw.org/events/details/harvest-moon-craft-kitchen-entertainment-6628
END:VEVENT

END:VCALENDAR
