BEGIN:VCALENDAR
VERSION:2.0
PRODID:-//ChamberMaster//Event Calendar 2.0//EN
METHOD:PUBLISH
X-PUBLISHED-TTL:P3D
REFRESH-INTERVAL:P3D
CALSCALE:GREGORIAN
BEGIN:VEVENT
DTSTART:20170108T000000Z
DTEND:20170108T030000Z
X-MICROSOFT-CDO-ALLDAYEVENT:FALSE
SUMMARY:Harvest Moon Craft Kitchen Entertainment
DESCRIPTION:Music by Van Dyke Trio while enjoying wonderful food and drinks.
X-ALT-DESC;FMTTYPE=text/html:Music by&nbsp\;Van Dyke Trio&nbsp\;while enjoying wonderful food and drinks.
LOCATION:7 N. High Street in historic downtown Canal Winchester\, Ohio
UID:e.9051.4041
SEQUENCE:3
DTSTAMP:20260421T163531Z
URL:https://business.destinationcw.org/events/details/harvest-moon-craft-kitchen-entertainment-4041
END:VEVENT

END:VCALENDAR
