BEGIN:VCALENDAR
VERSION:2.0
PRODID:-//ChamberMaster//Event Calendar 2.0//EN
METHOD:PUBLISH
X-PUBLISHED-TTL:P3D
REFRESH-INTERVAL:P3D
CALSCALE:GREGORIAN
BEGIN:VEVENT
DTSTART:20170107T000000Z
DTEND:20170107T033000Z
X-MICROSOFT-CDO-ALLDAYEVENT:FALSE
SUMMARY:Harvest Moon Craft Kitchen Entertainment
DESCRIPTION:Music by Acolistic Avalanate while enjoying wonderful food and drinks.
X-ALT-DESC;FMTTYPE=text/html:Music by&nbsp\;Acolistic Avalanate&nbsp\;while enjoying wonderful food and drinks.
LOCATION:7 N. High Street in historic downtown Canal Winchester\, Ohio
UID:e.9051.4033
SEQUENCE:3
DTSTAMP:20260421T163531Z
URL:https://business.destinationcw.org/events/details/harvest-moon-craft-kitchen-entertainment-4033
END:VEVENT

END:VCALENDAR
