BEGIN:VCALENDAR
VERSION:2.0
PRODID:-//ChamberMaster//Event Calendar 2.0//EN
METHOD:PUBLISH
X-PUBLISHED-TTL:P3D
REFRESH-INTERVAL:P3D
CALSCALE:GREGORIAN
BEGIN:VEVENT
DTSTART:20161126T000000Z
DTEND:20161126T020000Z
X-MICROSOFT-CDO-ALLDAYEVENT:FALSE
SUMMARY:Harvest Moon Craft Kitchen
DESCRIPTION:Music by Dr. Dan while enjoying wonderful food and drinks.
X-ALT-DESC;FMTTYPE=text/html:Music by Dr. Dan while enjoying wonderful food and drinks.
LOCATION:7 N. High Street in historic downtown Canal Winchester\, Ohio
UID:e.9051.4028
SEQUENCE:3
DTSTAMP:20260421T113718Z
URL:https://business.destinationcw.org/events/details/harvest-moon-craft-kitchen-4028
END:VEVENT

END:VCALENDAR
