BEGIN:VCALENDAR
VERSION:2.0
PRODID:-//ChamberMaster//Event Calendar 2.0//EN
METHOD:PUBLISH
X-PUBLISHED-TTL:P3D
REFRESH-INTERVAL:P3D
CALSCALE:GREGORIAN
BEGIN:VEVENT
DTSTART:20181006T223000Z
DTEND:20181006T223000Z
X-MICROSOFT-CDO-ALLDAYEVENT:FALSE
SUMMARY:Gatsby at the Wagnalls
DESCRIPTION:Gatsby at the Wagnalls - fundraiser at the historical library.  This upscale event will allow guests to experience the magical spirit of the Roaring Twenties filled with jazz music\, festive 1920s cocktails\, hor d'oeuvres and more.  Come wearing your most festive 1920s costume to immerse yourself in the fantasy!\n\n\n\nAll funds that are raised will benefit the Wagnalls Foundation\, allowing upgrades to be made to the century-old library building. These upgrades will not only help preserve the integrity of the historical building\, but will help make it a viable destination venue that will generate revenue for the Foundations.\n\n\n\nPlease contact Amanda Fourlaris if you wish to help sponsor this event\, donate a silent auction item.
X-ALT-DESC;FMTTYPE=text/html:Gatsby at the Wagnalls - fundraiser at the historical library.&nbsp\; This upscale event will allow guests to experience the magical spirit of the Roaring Twenties filled with jazz music\, festive 1920s cocktails\, hor d&#39\;oeuvres and more.&nbsp\; Come wearing your most festive 1920s costume to immerse yourself in the fantasy!<br />\n<br />\nAll funds that are raised will benefit the Wagnalls Foundation\, allowing upgrades to be made to the century-old library building. These upgrades will not only help preserve the integrity of the historical building\, but will help make it a viable destination venue that will generate revenue for the Foundations.<br />\n<br />\nPlease contact&nbsp\;Amanda Fourlaris&nbsp\;if you wish to help sponsor this event\, donate a silent auction item.
LOCATION:Wagnalls Memorial -150 E. Columbus Street\, Lithopolis\, Ohio 43136
UID:e.9051.6137
SEQUENCE:3
DTSTAMP:20260423T014122Z
URL:https://business.destinationcw.org/events/details/gatsby-at-the-wagnalls-6137
END:VEVENT

END:VCALENDAR
