BEGIN:VCALENDAR
VERSION:2.0
PRODID:-//ChamberMaster//Event Calendar 2.0//EN
METHOD:PUBLISH
X-PUBLISHED-TTL:P3D
REFRESH-INTERVAL:P3D
CALSCALE:GREGORIAN
BEGIN:VEVENT
DTSTART:20260425T140000Z
DTEND:20260425T153000Z
X-MICROSOFT-CDO-ALLDAYEVENT:FALSE
SUMMARY:Free Workshop : Community Backyard Conservation
DESCRIPTION:Celebrate Earth Day with the City of Canal Winchester\, in partnership with Franklin Soil & Water Conservation District\, during their community education workshop: Community Backyard Conservation.\n\nParticipants will learn the benefits of rain gardens\, rain barrels and composting. Those who attend the free workshop may also be eligible to receive a $50 rebate voucher (*dependent on homeowners location & while supplies last) on the purchase of an approved rain barrel and/or composter.
X-ALT-DESC;FMTTYPE=text/html:<p data-pasted="true" style="box-sizing: inherit\; margin: 0px 0px 1.4em\; padding: 0px\; border: 0px none\; outline: 0px\; font-size: 14px\; font-family: Lato\; vertical-align: baseline\; color: rgb(56\, 56\, 56)\; line-height: 1.5\;">Celebrate Earth Day with the City of Canal Winchester\, in partnership with Franklin Soil &amp\; Water Conservation District\, during their community education workshop: Community Backyard Conservation.</p>\n\n<p style="box-sizing: inherit\; margin: 0px 0px 1.4em\; padding: 0px\; border: 0px none\; outline: 0px\; font-size: 14px\; font-family: Lato\; vertical-align: baseline\; color: rgb(56\, 56\, 56)\; line-height: 1.5\;">Participants will learn the benefits of rain gardens\, rain barrels and composting. Those who attend the free workshop may also be eligible to receive a $50 rebate voucher (*dependent on homeowners location &amp\; while supplies last) on the purchase of an approved rain barrel and/or composter.<br />\n&nbsp\;</p>\n
LOCATION:Canal Winchester Community Center 45 E. Waterloo St. 614-834-9915
UID:e.9051.17495
SEQUENCE:3
DTSTAMP:20260423T071800Z
URL:https://business.destinationcw.org/events/details/free-workshop-community-backyard-conservation-17495
END:VEVENT

END:VCALENDAR
