BEGIN:VCALENDAR
VERSION:2.0
PRODID:-//ChamberMaster//Event Calendar 2.0//EN
METHOD:PUBLISH
X-PUBLISHED-TTL:P3D
REFRESH-INTERVAL:P3D
CALSCALE:GREGORIAN
BEGIN:VEVENT
DTSTART:20120916T170000Z
DTEND:20120916T190000Z
X-MICROSOFT-CDO-ALLDAYEVENT:FALSE
SUMMARY:Fitness Firm's Yoga Blend to Benefit Courage\, Conquer & Cure 5K Walk/Run
DESCRIPTION:Fitness Firm's Yoga Blend to benefit Courage\, Conquer & Cure 5K is an event for Yoga enthusiasts of all levels. It will be a yoga class blending Hatha\, Iyengar\, Vinyasa\, Ashtanga & Kundalini Practices. The concept is a beautiful one! Groove to the best of live music giving a new spirit to postures. Join us as we salute and support Jodi Brown and Angie Abel in their successful journey of Cancer Survivorship.\n\n\n\nProceeds going towards their goal   The Stephanie Spielman Fund for Breast Cancer Research at The Ohio State University Comprehensive Cancer Center   Arthur G. James Cancer Hospital and Richard J. Solove Research Institute (OSUCCC   James).
X-ALT-DESC;FMTTYPE=text/html:Fitness Firm&rsquo\;s Yoga Blend to benefit Courage\, Conquer &amp\; Cure 5K is an event for Yoga enthusiasts of all levels. It will be a yoga class blending Hatha\, Iyengar\, Vinyasa\, Ashtanga &amp\; Kundalini Practices. The concept is a beautiful one! Groove to the best of live music giving a new spirit to postures. Join us as we salute and support Jodi Brown and Angie Abel in their successful journey of Cancer Survivorship.<br />\n<br />\nProceeds going towards their goal &mdash\; The Stephanie Spielman Fund for Breast Cancer Research at The Ohio State University Comprehensive Cancer Center &ndash\; Arthur G. James Cancer Hospital and Richard J. Solove Research Institute (OSUCCC &ndash\; James).<br />\n
LOCATION:Fitness Firm's Yoga Blend has an entry fee of $15 per person. Yoga blocks\, yoga straps\, bottled waters\, towels will be provided.You do not need to be a member of Fitness Firm to participate. Sign up at Fitness Firm\, 19 E. Waterloo St.\, online at: www.fitnessfirmcw.com or call 614-834-4027 for more details. Our Group Fitness Studio will be set up just right. Come soaring into a new adventure enjoying several yoga styles as a yoga sampler that stirs you to perfection! Other event sponsors: Harvest Moon Cafe\, C'est Si Bon\, Dragonfly Candles\, CW Schools Music Department
UID:e.9051.87
SEQUENCE:3
DTSTAMP:20260421T133702Z
URL:https://business.destinationcw.org/events/details/fitness-firm-s-yoga-blend-to-benefit-courage-conquer-cure-5k-walk-run-09-16-2012-87
END:VEVENT

END:VCALENDAR
