BEGIN:VCALENDAR
VERSION:2.0
PRODID:-//ChamberMaster//Event Calendar 2.0//EN
METHOD:PUBLISH
X-PUBLISHED-TTL:P3D
REFRESH-INTERVAL:P3D
CALSCALE:GREGORIAN
BEGIN:VEVENT
DTSTART:20120827T020000Z
DTEND:20120827T040000Z
X-MICROSOFT-CDO-ALLDAYEVENT:FALSE
SUMMARY:Fitness Firm's Midnight Ride to Benefit CW Girls' Varsity Soccer
DESCRIPTION:Fitness Firm's Midnight Ride to Benefit Canal Winchester Girls Varsity Soccer Team.\n\n	Fitness Firm will provide the venue for which the Canal Winchester Girls Varsity Soccer Team will earn money for their 2012 season. Fitness Firm will conduct at least 4 different indoor cycling classes\, lasting 30 minutes each. Soccer Team participants will be collecting "per minute" pledges during the weeks prior to the rides. They will earn money as long as they stay on the bike for whatever duration they can\, up to 30 minutes.\n\n	What's in it for you? Help out the Canal Winchester Girls Varsity Soccer Team while getting your fitness on while the city sleeps. You'll have a jump on Monday too! See the Sign Up a the Front Desk of Fitness Firm to reserve your bike for this First Time Event. $10 Entry Fee. Picture This... Music Thumpin' Bikes a Crankin'\, Neon Lights a Blazin'\, and you're Calorie Burning the Midnight Hour. Whoo\, Whoo!
X-ALT-DESC;FMTTYPE=text/html:<span style="font-family: Arial\, Helvetica\, sans-serif\; font-size: 10pt">Fitness Firm&rsquo\;s Midnight Ride to Benefit Canal Winchester Girls Varsity Soccer Team.</span>\n<p style="color: #000000\; text-align: -webkit-auto\; margin: 0px\; font-size: 12px\; font-family: times\;">\n	<span style="font-family: Arial\, Helvetica\, sans-serif\; font-size: 10pt">Fitness Firm will provide the venue for which the Canal Winchester Girls Varsity Soccer Team will earn money for their 2012 season. Fitness Firm will conduct at least 4 different indoor cycling classes\, lasting 30 minutes each. Soccer Team participants will be collecting &ldquo\;per minute&rdquo\; pledges during the weeks prior to the rides. They will earn money as long as they stay on the bike for whatever duration they can\, up to 30 minutes.</span></p>\n<p style="color: #000000\; text-align: -webkit-auto\; margin: 0px\; font-size: 12px\; font-family: times\;">\n	<span style="font-family: Arial\, Helvetica\, sans-serif\; font-size: 10pt">What&rsquo\;s in it for you? Help out the Canal Winchester Girls Varsity Soccer Team while getting your fitness on&mdash\;while the city sleeps. You&rsquo\;ll have a jump on Monday too! See the Sign Up a the Front Desk of Fitness Firm to reserve your bike for this First Time Event. $10 Entry Fee. Picture This... Music Thumpin&rsquo\; Bikes a Crankin&rsquo\;\, Neon Lights a Blazin&rsquo\;\, and you&rsquo\;re Calorie Burning the Midnight Hour. Whoo\, Whoo!</span></p>\n
LOCATION:Fitness Firm\, 19 E. Waterloo St.\, Canal Winchester\, Indoor Cycling Arena
UID:e.9051.54
SEQUENCE:3
DTSTAMP:20260421T152405Z
URL:https://business.destinationcw.org/events/details/fitness-firm-s-midnight-ride-to-benefit-cw-girls-varsity-soccer-08-26-2012-54
END:VEVENT

END:VCALENDAR
