BEGIN:VCALENDAR
VERSION:2.0
PRODID:-//ChamberMaster//Event Calendar 2.0//EN
METHOD:PUBLISH
X-PUBLISHED-TTL:P3D
REFRESH-INTERVAL:P3D
CALSCALE:GREGORIAN
BEGIN:VEVENT
DTSTART:20121129T220000Z
DTEND:20121130T020000Z
X-MICROSOFT-CDO-ALLDAYEVENT:FALSE
SUMMARY:First Annual Moonlight Market!
DESCRIPTION:The Canal Winchester Local Merchants Guild is having its First Annual Moonlight Market. Begin your holiday shopping by supporting your local\, independently owned merchants. Each participating shop will have different events going on including craft demonstrations. Enter to win a HUGE gift basket full of items and gift certificates from participating merchants. Sure to become a favorite Canal Winchester tradition in years to come!
X-ALT-DESC;FMTTYPE=text/html:<span style="font-size:20px\;">The Canal Winchester Local Merchants Guild is having its First Annual Moonlight Market. Begin your holiday shopping by supporting your local\, independently owned merchants. Each participating shop will have different events going on including craft demonstrations. Enter to win a HUGE gift basket full of items and gift certificates from participating merchants. Sure to become a favorite Canal Winchester tradition in years to come!</span>
LOCATION:The Shops of Historic Downtown Canal Winchester
UID:e.9051.295
SEQUENCE:3
DTSTAMP:20260421T113820Z
URL:https://business.destinationcw.org/events/details/first-annual-moonlight-market-11-29-2012-295
END:VEVENT

END:VCALENDAR
