BEGIN:VCALENDAR
VERSION:2.0
PRODID:-//ChamberMaster//Event Calendar 2.0//EN
METHOD:PUBLISH
X-PUBLISHED-TTL:P3D
REFRESH-INTERVAL:P3D
CALSCALE:GREGORIAN
BEGIN:VEVENT
DTSTART:20170514T180000Z
DTEND:20170514T210000Z
X-MICROSOFT-CDO-ALLDAYEVENT:FALSE
SUMMARY:Entertainment by The Hot Rod Lincolns\, Greg Dickson & Rich Leach
DESCRIPTION:Musical Entertainment by The Hot Red Lincolns\, Greg Dickson & Rich Leach
X-ALT-DESC;FMTTYPE=text/html:Musical Entertainment by The Hot Red Lincolns\, Greg Dickson &amp\; Rich Leach
LOCATION:Hidden Lakes Winery\, 650 Winchester Pike\, Canal Winchester\, Ohio
UID:e.9051.4133
SEQUENCE:3
DTSTAMP:20260421T210816Z
URL:https://business.destinationcw.org/events/details/entertainment-by-the-hot-rod-lincolns-greg-dickson-rich-leach-4133
END:VEVENT

END:VCALENDAR
