BEGIN:VCALENDAR
VERSION:2.0
PRODID:-//ChamberMaster//Event Calendar 2.0//EN
METHOD:PUBLISH
X-PUBLISHED-TTL:P3D
REFRESH-INTERVAL:P3D
CALSCALE:GREGORIAN
BEGIN:VEVENT
DTSTART:20180914T220000Z
DTEND:20180915T010000Z
X-MICROSOFT-CDO-ALLDAYEVENT:FALSE
SUMMARY:Elvis Party
DESCRIPTION:Elvis Themed Party
X-ALT-DESC;FMTTYPE=text/html:Elvis Themed Party
LOCATION:Hidden Lakes Winery\, 650 Winchester Pike\, Canal Winchester\, Ohio 43110
UID:e.9051.6136
SEQUENCE:3
DTSTAMP:20260422T223112Z
URL:https://business.destinationcw.org/events/details/elvis-party-6136
END:VEVENT

END:VCALENDAR
