BEGIN:VCALENDAR
VERSION:2.0
PRODID:-//ChamberMaster//Event Calendar 2.0//EN
METHOD:PUBLISH
X-PUBLISHED-TTL:P3D
REFRESH-INTERVAL:P3D
CALSCALE:GREGORIAN
BEGIN:VEVENT
DTSTART:20181101T200000Z
DTEND:20181102T000000Z
X-MICROSOFT-CDO-ALLDAYEVENT:FALSE
SUMMARY:Downtown Christmas Premier
DESCRIPTION:Visit the shops around Canal Winchester for an evening of shopping and making memories! ...It's a shop hop!  What a great way to move in to the holiday season.  Every shop will be prepared for Christmas with holiday decorations and as always\, wonderful gift ideas.
X-ALT-DESC;FMTTYPE=text/html:Visit the shops around Canal Winchester for an evening of shopping and making memories! ...It&#39\;s a shop hop!&nbsp\; What a great way to move in to the holiday season.&nbsp\;&nbsp\;Every shop will be prepared for Christmas with holiday decorations and as always\, wonderful gift ideas.<br />\n<br />\n<br />\n<br />\n&nbsp\;
LOCATION:Historic Downtown Canal Winchester
UID:e.9051.2531
SEQUENCE:3
DTSTAMP:20260423T013852Z
URL:https://business.destinationcw.org/events/details/downtown-christmas-premier-2531
END:VEVENT

END:VCALENDAR
