BEGIN:VCALENDAR
VERSION:2.0
PRODID:-//ChamberMaster//Event Calendar 2.0//EN
METHOD:PUBLISH
X-PUBLISHED-TTL:P3D
REFRESH-INTERVAL:P3D
CALSCALE:GREGORIAN
BEGIN:VEVENT
DTSTART:20201105T220000Z
DTEND:20201106T010000Z
X-MICROSOFT-CDO-ALLDAYEVENT:FALSE
SUMMARY:Downtown C.W. Shop Hop!
DESCRIPTION:If you're not in the mood for the holidays\, you will be after this Thursday evening.  Visit the shops around Canal Winchester for an evening of shopping and making memories! Social distancing practices will be followed.
X-ALT-DESC;FMTTYPE=text/html:If you&#39\;re not in the mood for the holidays\, you will be after this Thursday evening.&nbsp\; Visit the shops around Canal Winchester for an evening of shopping and making memories! Social distancing practices will be followed.
LOCATION:Historic Downtown Canal Winchester\, Ohio
UID:e.9051.9613
SEQUENCE:3
DTSTAMP:20260421T195344Z
URL:https://business.destinationcw.org/events/details/downtown-c-w-shop-hop-9613
END:VEVENT

END:VCALENDAR
