BEGIN:VCALENDAR
VERSION:2.0
PRODID:-//ChamberMaster//Event Calendar 2.0//EN
METHOD:PUBLISH
X-PUBLISHED-TTL:P3D
REFRESH-INTERVAL:P3D
CALSCALE:GREGORIAN
BEGIN:VEVENT
DTSTART:20181115T220000Z
DTEND:20181116T020000Z
X-MICROSOFT-CDO-ALLDAYEVENT:FALSE
SUMMARY:Downtown C.W. Shop Hop!
DESCRIPTION:If you're not in the mood for the holidays\, you will be after this Thursday evening.  Visit the shops around Canal Winchester for an evening of shopping and making memories! ...It's a shop hop!and.
X-ALT-DESC;FMTTYPE=text/html:If you&#39\;re not in the mood for the holidays\, you will be after this Thursday evening.&nbsp\; Visit the shops around Canal Winchester for an evening of shopping and making memories! ...It&#39\;s a shop hop!and.
LOCATION:Historic Downtown Canal Winchester\, Ohio
UID:e.9051.6398
SEQUENCE:3
DTSTAMP:20260423T014039Z
URL:https://business.destinationcw.org/events/details/downtown-c-w-shop-hop-6398
END:VEVENT

END:VCALENDAR
