BEGIN:VCALENDAR
VERSION:2.0
PRODID:-//ChamberMaster//Event Calendar 2.0//EN
METHOD:PUBLISH
X-PUBLISHED-TTL:P3D
REFRESH-INTERVAL:P3D
CALSCALE:GREGORIAN
BEGIN:VEVENT
DTSTART:20121007T140000Z
DTEND:20121029T220000Z
X-MICROSOFT-CDO-ALLDAYEVENT:FALSE
SUMMARY:Dills Greenhouse Fall Fun Festival
DESCRIPTION:Fun for families of any age or size. The event attractions include a hayride\, corn maze\, straw maze\, bounce house\, buggie rides for little ones\, farm animals\, cornhole games\, corn pit\, sand box\, fire pits\, music and much more. Lots of photo opportunities!!
X-ALT-DESC;FMTTYPE=text/html:<span style="font-size:16px\;"><span style="font-family: arial\;">Fun for families of any age or size. The event attractions include a hayride\, corn maze\, straw maze\, bounce house\, buggie rides for little ones\, farm animals\, cornhole games\, corn pit\, sand box\, fire pits\, music and much more. Lots of photo opportunities!!</span></span>
LOCATION:Dill's is located on the corner of US 33 and Rager Road in Groveport\, OH\, southeast of Columbus in Franklin County. From Pickerington using Tussing Rd.: West on Tussing Rd. South on Brice Rd. Go straight onto Gender Rd as Brice Rd turns off. Turn right onto US 33 towards Columbus go 0.5 mile. Turn left onto Rager Rd. Turn left into Dill's. From Pickerington using US 33: See Lancaster directions. From Bexley: South on College Ave. and merge onto US 33 towards Lancaster. Go approximately 8 miles on US 33. (Go past I-270 and Hamilton Rd.) Turn right on Rager Rd. and left into Dill's. From Lancaster: West on US 33 towards Columbus. Go past Gender Rd (Bob Wyler's Chevrolet will be on the right.) Turn left on Rager Rd and left into Dill's. From Westside of Columbus using I-70: East on I-70. Southeast on US 33 toward Lancaster. Go approximately 8 miles. (Go past I-270 and Hamilton Rd.) Turn right on Rager Rd. Left into Dill's. From Westside of Columbus using the South Outer belt: South on I-270. Southeast on US 33 towards Lancaster. Go 4 miles. Turn right on Rager Rd. Left into Dill's. From Gahanna using I-270: South on I-270. Southeast on US 33 towards Lancaster. Go 4 miles. Turn right onto Rager Rd. Left into Dill's.
UID:e.9051.94
SEQUENCE:3
DTSTAMP:20260421T115706Z
URL:https://business.destinationcw.org/events/details/dills-greenhouse-fall-fun-festival-10-07-2012-94
END:VEVENT

END:VCALENDAR
