BEGIN:VCALENDAR
VERSION:2.0
PRODID:-//ChamberMaster//Event Calendar 2.0//EN
METHOD:PUBLISH
X-PUBLISHED-TTL:P3D
REFRESH-INTERVAL:P3D
CALSCALE:GREGORIAN
BEGIN:VEVENT
DTSTART:20210604T230000Z
DTEND:20210605T020000Z
X-MICROSOFT-CDO-ALLDAYEVENT:FALSE
SUMMARY:Date Night - Adult Prom At Blystone Farms
DESCRIPTION:Date night this time is a revisit to your prom at Blystone Farm.  For ticket information go to Blystonefarm.com
X-ALT-DESC;FMTTYPE=text/html:Date night this time is a revisit to your prom at Blystone Farm.&nbsp\; For ticket information go to Blystonefarm.com
LOCATION:Blystone Farm\, 8677 Oregon Rd\, Canal Winchester\, Ohio
UID:e.9051.10567
SEQUENCE:3
DTSTAMP:20260421T114315Z
URL:https://business.destinationcw.org/events/details/date-night-adult-prom-at-blystone-farms-10567
END:VEVENT

END:VCALENDAR
