BEGIN:VCALENDAR
VERSION:2.0
PRODID:-//ChamberMaster//Event Calendar 2.0//EN
METHOD:PUBLISH
X-PUBLISHED-TTL:P3D
REFRESH-INTERVAL:P3D
CALSCALE:GREGORIAN
BEGIN:VEVENT
DTSTART:20121123T140000Z
DTEND:20121124T033000Z
X-MICROSOFT-CDO-ALLDAYEVENT:FALSE
SUMMARY:Damage Control: The Black Friday Workout!
DESCRIPTION:Worried about all those Thanksgiving calories? Come to Fitness Firm's Damage Control/The Black Friday Workout and burn it all off! Eat\, drink\, snack away at Thanksgiving. This 90 minute fitness blast will bring you back in good standing. We're gonna "Rock the House". All 3 floors of fitness stylized just for you to get your weight training\, cardio and good stretch on. This workout is do-able for all levels. All the trainers\, all the instructors\, all the great coaching you need to kick the holiday season in gear! You do not need to be a member of Fitness Firm to participate. Call Fitness Firm 614-834-4027\, or sign up at the Front Desk or www.fitnessfirmcw.com
X-ALT-DESC;FMTTYPE=text/html:<span style="font-family: Arial\, Helvetica\, sans-serif\; font-size: 10pt">Worried about all those Thanksgiving calories? Come to Fitness Firm&rsquo\;s Damage Control/The Black Friday Workout and burn it all off! Eat\, drink\, snack away at Thanksgiving. This 90 minute fitness blast will bring you back in good standing. We&rsquo\;re gonna &ldquo\;Rock the House&rdquo\;. All 3 floors of fitness stylized just for you to get your weight training\, cardio and good stretch on. This workout is do-able for all levels. All the trainers\, all the instructors\, all the great coaching you need to kick the holiday season in gear! You do not need to be a member of Fitness Firm to participate. Call Fitness Firm 614-834-4027\, or sign up at the Front Desk or <a href="http://www.fitnessfirmcw.com" target="_blank">www.fitnessfirmcw.com</a></span>
LOCATION:Fitness Firm: 19 East Waterloo Street in historic downtown Canal Winchester
UID:e.9051.293
SEQUENCE:3
DTSTAMP:20260421T113825Z
URL:https://business.destinationcw.org/events/details/damage-control-the-black-friday-workout-11-23-2012-293
END:VEVENT

END:VCALENDAR
