BEGIN:VCALENDAR
VERSION:2.0
PRODID:-//ChamberMaster//Event Calendar 2.0//EN
METHOD:PUBLISH
X-PUBLISHED-TTL:P3D
REFRESH-INTERVAL:P3D
CALSCALE:GREGORIAN
BEGIN:VEVENT
DTSTART:20170506T130000Z
DTEND:20170506T150000Z
X-MICROSOFT-CDO-ALLDAYEVENT:FALSE
SUMMARY:CW Free Tree Give Away
DESCRIPTION:Canal Winchester is having their annual tree give away at Stradley Park\, 36 S. High Street in historic downtown Canal Winchester.  Approximately 120 trees will be given away to Canal Winchester residents living within the city limits\, on a first come first serve basis.  Be sure to bring proof of your residency such as a water bill or driver's license.   Members of the Street Tree Advisory Board will be there to answer questions regarding selection\, planting and care.
X-ALT-DESC;FMTTYPE=text/html:Canal Winchester is having their annual tree give away at Stradley Park\, 36 S. High Street in historic downtown Canal Winchester.&nbsp\; Approximately 120 trees will be given away to Canal Winchester residents living within the city limits\, on a first come first serve basis.&nbsp\; Be sure to bring proof of your residency such as a water bill or driver&#39\;s license.&nbsp\;&nbsp\; Members of the Street Tree Advisory Board will be there to answer questions regarding selection\, planting and care.
LOCATION:Stradley Park\, 36 S. High Street\, Canal Winchester\, Ohio
UID:e.9051.4109
SEQUENCE:3
DTSTAMP:20260421T211610Z
URL:https://business.destinationcw.org/events/details/cw-free-tree-give-away-4109
END:VEVENT

END:VCALENDAR
