BEGIN:VCALENDAR
VERSION:2.0
PRODID:-//ChamberMaster//Event Calendar 2.0//EN
METHOD:PUBLISH
X-PUBLISHED-TTL:P3D
REFRESH-INTERVAL:P3D
CALSCALE:GREGORIAN
BEGIN:VEVENT
DTSTART:20210617T200000Z
DTEND:20210617T230000Z
X-MICROSOFT-CDO-ALLDAYEVENT:FALSE
SUMMARY:CW Chamber Networking event
DESCRIPTION:oin us for Happy Hour at The Olive Branch on Thursday\, June 17th from 4-7 p.m.\n\n\n\nWe know this past year has been difficult to cultivate business relationships and grow your network here in Canal Winchester\, which is why we are bringing back our happy hour event.  Our goal with Happy Hour is to give you an opportunity to meet one another\, grow and strengthen your relationships with other business members in our community and to have fun!
X-ALT-DESC;FMTTYPE=text/html:<span style="color: rgb(51\, 51\, 51)\; font-family: &quot\;Noto Sans&quot\;\, Arial\, Helvetica\, sans-serif\; font-size: 14px\; background-color: rgb(255\, 255\, 255)\;">oin us for Happy Hour at The Olive Branch on Thursday\, June 17th from 4-7 p.m.</span><br style="box-sizing: content-box\; inset: auto\; clear: none\; color: rgb(51\, 51\, 51)\; content: normal\; direction: inherit\; display: inline\; empty-cells: show\; float: none\; font-variant-numeric: inherit\; font-variant-east-asian: inherit\; font-stretch: inherit\; font-size: 14px\; font-family: &quot\;Noto Sans&quot\;\, Arial\, Helvetica\, sans-serif\; line-height: inherit\; margin: 0px\; max-height: none\; max-width: none\; min-height: initial\; min-width: initial\; opacity: 1\; outline-offset: 0px\; overflow: visible\; padding: 0px\; position: static\; resize: none\; table-layout: auto\; text-overflow: clip\; vertical-align: baseline\; visibility: inherit\; word-break: inherit\; overflow-wrap: inherit\; z-index: auto\; background: none rgb(255\, 255\, 255)\; border-width: initial\; border-style: none\; border-color: initial\; border-collapse: separate\; border-image: none 100% 1 0 / 1 / 0 stretch\; border-radius: 0px\; height: auto\; width: auto\;" />\n<br style="box-sizing: content-box\; inset: auto\; clear: none\; color: rgb(51\, 51\, 51)\; content: normal\; direction: inherit\; display: inline\; empty-cells: show\; float: none\; font-variant-numeric: inherit\; font-variant-east-asian: inherit\; font-stretch: inherit\; font-size: 14px\; font-family: &quot\;Noto Sans&quot\;\, Arial\, Helvetica\, sans-serif\; line-height: inherit\; margin: 0px\; max-height: none\; max-width: none\; min-height: initial\; min-width: initial\; opacity: 1\; outline-offset: 0px\; overflow: visible\; padding: 0px\; position: static\; resize: none\; table-layout: auto\; text-overflow: clip\; vertical-align: baseline\; visibility: inherit\; word-break: inherit\; overflow-wrap: inherit\; z-index: auto\; background: none rgb(255\, 255\, 255)\; border-width: initial\; border-style: none\; border-color: initial\; border-collapse: separate\; border-image: none 100% 1 0 / 1 / 0 stretch\; border-radius: 0px\; height: auto\; width: auto\;" />\n<span style="color: rgb(51\, 51\, 51)\; font-family: &quot\;Noto Sans&quot\;\, Arial\, Helvetica\, sans-serif\; font-size: 14px\; background-color: rgb(255\, 255\, 255)\;">We know this past year has been difficult to cultivate business relationships and grow your network here in Canal Winchester\, which is why we are bringing back our happy hour event.&nbsp\; Our goal with Happy Hour is to give you an opportunity to meet one another\, grow and strengthen your relationships with other business members in our community and to have fun!</span>
LOCATION:Westchester Golf Course\, 6300 Bent Grass Blvd.\, Canal Winchester\, Ohio
UID:e.9051.10795
SEQUENCE:3
DTSTAMP:20260421T113656Z
URL:https://business.destinationcw.org/events/details/cw-chamber-networking-event-10795
END:VEVENT

END:VCALENDAR
