BEGIN:VCALENDAR
VERSION:2.0
PRODID:-//ChamberMaster//Event Calendar 2.0//EN
METHOD:PUBLISH
X-PUBLISHED-TTL:P3D
REFRESH-INTERVAL:P3D
CALSCALE:GREGORIAN
BEGIN:VEVENT
DTSTART:20181116T230000Z
DTEND:20181117T020000Z
X-MICROSOFT-CDO-ALLDAYEVENT:FALSE
SUMMARY:Customer Appreciation Day - Music by Cliff Cody
DESCRIPTION:Customer Appreciation Day - Music by Cliff Cody
X-ALT-DESC;FMTTYPE=text/html:Customer Appreciation Day - Music by Cliff Cody
LOCATION:Hidden Lakes Winery & Distillery\, 650 Winchester Pike\, Canal Winchester\, Ohio
UID:e.9051.6393
SEQUENCE:3
DTSTAMP:20260423T014040Z
URL:https://business.destinationcw.org/events/details/customer-appreciation-day-music-by-cliff-cody-6393
END:VEVENT

END:VCALENDAR
