BEGIN:VCALENDAR
VERSION:2.0
PRODID:-//ChamberMaster//Event Calendar 2.0//EN
METHOD:PUBLISH
X-PUBLISHED-TTL:P3D
REFRESH-INTERVAL:P3D
CALSCALE:GREGORIAN
BEGIN:VEVENT
DTSTART:20180228T233000Z
DTEND:20180301T010000Z
X-MICROSOFT-CDO-ALLDAYEVENT:FALSE
SUMMARY:Consumer Awareness Workshop
DESCRIPTION:Looking for some tips to help you identify tax & impostor scams this season?  The City of Canal Winchester will host a Consumer Awareness Workshop on Wednesday\, February 28\, 2018 at the Frances Steube Community Center\, 22 S. Trine St. in Canal Winchester.  The free community education program will run from 6:30 p.m. to 8:00 p.m.
X-ALT-DESC;FMTTYPE=text/html:&nbsp\;Looking for some tips to help you identify tax &amp\; impostor scams this season?&nbsp\; The City of Canal Winchester will host a Consumer Awareness Workshop on Wednesday\, February 28\, 2018 at the Frances Steube Community Center\, 22 S. Trine St. in Canal Winchester.&nbsp\; The free community education program will run from 6:30 p.m. to 8:00 p.m.
LOCATION:Frances Steube Community Center\, 22 S. Trine St.\, Canal Winchester\, Ohio
UID:e.9051.4655
SEQUENCE:3
DTSTAMP:20260422T111708Z
URL:https://business.destinationcw.org/events/details/consumer-awareness-workshop-4655
END:VEVENT

END:VCALENDAR
