BEGIN:VCALENDAR
VERSION:2.0
PRODID:-//ChamberMaster//Event Calendar 2.0//EN
METHOD:PUBLISH
X-PUBLISHED-TTL:P3D
REFRESH-INTERVAL:P3D
CALSCALE:GREGORIAN
BEGIN:VEVENT
DTSTART:20181129T230000Z
DTEND:20181130T020000Z
X-MICROSOFT-CDO-ALLDAYEVENT:FALSE
SUMMARY:Caricaturist With John Bailey
DESCRIPTION:Caricaturist with John Bailey
X-ALT-DESC;FMTTYPE=text/html:Caricaturist with John Bailey
LOCATION:Hidden Lakes Winery & Distillery\, 650 Winchester Pike\, Canal Winchester\, Ohio
UID:e.9051.6397
SEQUENCE:3
DTSTAMP:20260423T025516Z
URL:https://business.destinationcw.org/events/details/caricaturist-with-john-bailey-6397
END:VEVENT

END:VCALENDAR
